BEGIN:VCALENDAR
VERSION:2.0
PRODID:-//eventon.com NONSGML v1.0//EN
BEGIN:VEVENT
UID:69e739eaaa96d
DTSTAMP:20260421T014842
DTSTART:20200922T010000Z
DTEND:20200922T023000Z
LOCATION:Virtual Online
SUMMARY:Monday Fun Day - Hang in There
DESCRIPTION: Virtual Paint Party! Enjoy this fun and interactive paint party with our amazing artist from the comfort of your home. Your ZOOM link will be sent to you via email so you can join in the fun at the event start time. Price includes brand new supplies: √ Acrylic Paint [..]
END:VEVENT
END:VCALENDAR