BEGIN:VCALENDAR
VERSION:2.0
PRODID:-//eventon.com NONSGML v1.0//EN
BEGIN:VEVENT
UID:69e4d8493a936
DTSTAMP:20260419T062737
DTSTART:20200903T180000Z
DTEND:20200903T190000Z
LOCATION:Virtual Online
SUMMARY:Pandas Drawing Class
DESCRIPTION: Virtual Beginner Drawing Class for all ages\,  all skill levels! Enjoy this fun and interactive event with our amazing artist from the comfort of your home. Your ZOOM link will be sent to you via email so you can join in the fun at the event start time. $35 each[..]
END:VEVENT
END:VCALENDAR